BEGIN:VCALENDAR
VERSION:2.0
CREATED:20260420T201756Z
PRODID:-//Maravai LifeSciences Holdings\, Inc./Equisolve Calendar v1.0//EN
METHOD:PUBLISH
BEGIN:VEVENT
UID:471b28b92b190de2604207358deef836
DTSTAMP:20260421T112346Z
DTSTART:20260507T210000Z
DTEND:20260507T220000Z
SUMMARY:Q1 2026 Maravai LifeSciences Earnings Conference Call
DESCRIPTION:Q1 2026 Maravai LifeSciences Earnings Conference Call\nDate: May 7\, 2026 5:00 pm EDT\nWebcast: https://viavid.webcasts.com/starthere.jsp?ei=1755577&tp_key=0e529108a5
END:VEVENT
END:VCALENDAR
